BEGIN:VCALENDAR
PRODID:-//Flo Inc.//FloSoft//EN
BEGIN:VEVENT
DTSTART:20231101T120000Z
DTEND:20231101T130000Z
LOCATION:<p>Cherkasky Auditorium, Moses Campus</p>
<h3>Speaker</h3>
<div>
<div></div>
<div>
<div><strong>Michael D. Cabana, MD, MPH<br /></strong>The Michael I. Cohen, M.D. University Chair</div>
<div>Department of Pediatrics</div>
<div>Albert Einstein College of Medicine</div>
<div>Physician-in-Chief</div>
<div>The Children&rsquo;s Hospital at Montefiore</div>
<div>Bronx, NY</div>
</div>
</div>
DESCRIPTION;ENCODING=QUOTED-PRINTABLE:
SUMMARY:State of the Department of Pediatrics Address
PRIORITY:3
END:VEVENT
END:VCALENDAR
