BEGIN:VCALENDAR
PRODID:-//Flo Inc.//FloSoft//EN
BEGIN:VEVENT
DTSTART:20230426T120000Z
DTEND:20230426T130000Z
LOCATION:<p>Cherkasky Auditorium, Moses Campus</p>
<h3>Speaker</h3>
<div>
<div><strong>14TH ANNUAL PEDIATRIC RESEARCH DAY</strong></div>
<div><strong>Peter Hotez, MD, PhD, DSc (hon), FASTMH, FAAP</strong></div>
<div>Texas Children’s Hospital: Endowed Chair of Tropical Pediatrics | Co-Director, Texas Children’s Hospital Center for Vaccine Development</div>
<div></div>
<div>Baylor College of Medicine: Dean, National School of Tropical Medicine | Professor, Departments of Pediatrics, Molecular Virology & Microbiology Health Policy Scholar</div>
<div></div>
<div>Baylor University, University Professor</div>
<div>Rice University, Baker Institute Fellow in Disease & Poverty</div>
<div>Texas A&M University, Faculty-Senior Fellow, Hagler Inst for Advanced Study & Scowcroft Institute of Intl Affairs</div>
<div>Houston, Tx</div>
</div>
DESCRIPTION;ENCODING=QUOTED-PRINTABLE:
SUMMARY:Global Vaccines and Immunizations:  The Science vs The Antiscience
PRIORITY:3
END:VEVENT
END:VCALENDAR
