BEGIN:VCALENDAR
PRODID:-//Flo Inc.//FloSoft//EN
BEGIN:VEVENT
DTSTART:20180519T140000Z
DTEND:20180519T180000Z
LOCATION:&splt;p>This event is open to children 12 years old and under and their families.&spamp;nbsp;&splt;span style=&doublequot;font-size: 1.4rem;&doublequot;>Rain or Shine&splt;/span>&splt;/p> &splt;p>Montefiore Wakefield Campus&splt;br /> Emergency Department&splt;br /> 600 East 233rd Street&splt;br /> Bronx, New York 10466&splt;/p>
DESCRIPTION;ENCODING=QUOTED-PRINTABLE:
SUMMARY:Teddy Bear Clinic
PRIORITY:3
END:VEVENT
END:VCALENDAR
