BEGIN:VCALENDAR
PRODID:-//Flo Inc.//FloSoft//EN
BEGIN:VEVENT
DTSTART:20180521T160000Z
DTEND:20180521T180000Z
LOCATION:New BOLD conference room:&splt;br /> (Please wait in 1st floor waiting room for counselors)
DESCRIPTION;ENCODING=QUOTED-PRINTABLE:
SUMMARY:Scrapbooking &spamp;amp; Cardmaking
PRIORITY:3
END:VEVENT
END:VCALENDAR
