BEGIN:VCALENDAR
PRODID:-//Flo Inc.//FloSoft//EN
BEGIN:VEVENT
DTSTART:20180518T160000Z
DTEND:20180518T170000Z
LOCATION:New BOLD conference room:&splt;br /> (Please wait in 1st floor waiting room for counselors)
DESCRIPTION;ENCODING=QUOTED-PRINTABLE:
SUMMARY:Mind-Body Support Group
PRIORITY:3
END:VEVENT
END:VCALENDAR
