BEGIN:VCALENDAR
PRODID:-//Flo Inc.//FloSoft//EN
BEGIN:VEVENT
DTSTART:20171108T130000Z
DTEND:20171108T140000Z
LOCATION:Dayle Hodge, MS, MS&splt;br /> MD/PhD Candidate&splt;br /> Albert Einstein College of Medicine&splt;br /> Bronx, NY
DESCRIPTION;ENCODING=QUOTED-PRINTABLE:
SUMMARY:Health Problems in Urban Communities
PRIORITY:3
END:VEVENT
END:VCALENDAR
