BEGIN:VCALENDAR
PRODID:-//Flo Inc.//FloSoft//EN
BEGIN:VEVENT
DTSTART:20180124T130000Z
DTEND:20180124T140000Z
LOCATION:Nathan Kuppermann, MD, MPH&splt;br /> Professor, Departments of Emergency Medicine and Pediatrics&splt;br /> Bo Tomas Brofeldt Endowed Chair, Department of&splt;br /> Emergency Medicine&splt;br /> University of California Davis Health&splt;br /> Principal Investigator, PRIME Node, Pediatric Emergency&splt;br /> Care Applied Research Network (PECARN)&splt;br /> Chair, Steering Committee, (Global) Pediatric Emergency&splt;br /> Research Networks (PERN)&splt;br /> Sacramento, CA
DESCRIPTION;ENCODING=QUOTED-PRINTABLE:
SUMMARY:Head Injury CT Decision Rules in Children: Generating/Validating the Evidence, Implementation, and Shared Decision Making
PRIORITY:3
END:VEVENT
END:VCALENDAR
